BEGIN:VCALENDAR
VERSION:2.0
PRODID:-//Tukios.com/
BEGIN:VEVENT
UID:0db921d2-e710-47af-93c9-f97d2a4c06bc@www.atkinsonfuneralhome.net
DTSTAMP:20260422T173523Z
DTSTART:20260427T160000Z
DTEND:20260427T170000Z
SUMMARY:Graveside Service
DESCRIPTION:
URL:https://www.atkinsonfuneralhome.net/obituaries/freda-green
LOCATION:Harp Cemetery 14921 ar-9  Malvern AR 72104
GEO:34.3275947;-92.7923164
END:VEVENT
END:VCALENDAR